BEGIN:VCALENDAR
VERSION:2.0
PRODID:-//CCAMPA - ECPv6.15.11//NONSGML v1.0//EN
CALSCALE:GREGORIAN
METHOD:PUBLISH
X-WR-CALNAME:CCAMPA
X-ORIGINAL-URL:https://caissalim-ariege-est.fr
X-WR-CALDESC:Évènements pour CCAMPA
REFRESH-INTERVAL;VALUE=DURATION:PT1H
X-Robots-Tag:noindex
X-PUBLISHED-TTL:PT1H
BEGIN:VTIMEZONE
TZID:Europe/Paris
BEGIN:DAYLIGHT
TZOFFSETFROM:+0100
TZOFFSETTO:+0200
TZNAME:CEST
DTSTART:20250330T010000
END:DAYLIGHT
BEGIN:STANDARD
TZOFFSETFROM:+0200
TZOFFSETTO:+0100
TZNAME:CET
DTSTART:20251026T010000
END:STANDARD
BEGIN:DAYLIGHT
TZOFFSETFROM:+0100
TZOFFSETTO:+0200
TZNAME:CEST
DTSTART:20260329T010000
END:DAYLIGHT
BEGIN:STANDARD
TZOFFSETFROM:+0200
TZOFFSETTO:+0100
TZNAME:CET
DTSTART:20261025T010000
END:STANDARD
BEGIN:DAYLIGHT
TZOFFSETFROM:+0100
TZOFFSETTO:+0200
TZNAME:CEST
DTSTART:20270328T010000
END:DAYLIGHT
BEGIN:STANDARD
TZOFFSETFROM:+0200
TZOFFSETTO:+0100
TZNAME:CET
DTSTART:20271031T010000
END:STANDARD
END:VTIMEZONE
BEGIN:VEVENT
DTSTART;TZID=Europe/Paris:20260404T080000
DTEND;TZID=Europe/Paris:20260910T170000
DTSTAMP:20260423T151936
CREATED:20260310T142233Z
LAST-MODIFIED:20260310T143042Z
UID:2324-1775289600-1789059600@caissalim-ariege-est.fr
SUMMARY:🍽️ Les banquets des beaux jours sont lancés\, la liste provisoire est dévoilée !
DESCRIPTION:Les banquets des beaux jours\, ces sont les grands repas cuisinés et partagés ensemble  sur la place publique. La caravane de la cantine itinérante de la caisse est alors mobilisée sur des évènements tout le printemps et l’été pour : \n\nPartager des moments conviviaux autour de l’alimentation locale\nPermettre des rencontres entre des personnes de tous les horizons\nInviter et rencontrer celles et ceux qui nous nourrissent\nVisibiliser la CCAMPA et diffuser largement les revendications de la Sécurité Sociale Alimentaire portées par la CCAMPA :\n\nDes produits locaux\, bons pour la santé et l’environnement\, accessibles à tout le monde\nDes revenus dignes et stables pour les agriculteur.ices de notre territoire\nDes liens de solidarités entre les habitant.es et les producteur.ices.\n\n\n\nDéjà 5 repas de prévus à Foix\, à Brie\, d’autres à Saint-Jean-du-Falga\, aux Bordes-sur-Arize\, … Et on a besoin de tout le monde !  \nMobilisation\, communication\, invitation des producteur-ices locaux\, élaboration des recettes\, cuisine le jour J\, … La liste des rôles est longue et chacun-e peut facilement trouver sa place !  \nDécouvrir le calendrier et s’inscrire pour participer à l’organisation 🙂
URL:https://caissalim-ariege-est.fr/evenement/les-banquets-des-beaux-jours-sont-lances-la-liste-provisoire-est-devoilee/
END:VEVENT
END:VCALENDAR